BEGIN:VCALENDAR
VERSION:2.0
PRODID:-//The Women&#039;s College - ECPv4.9.4//NONSGML v1.0//EN
CALSCALE:GREGORIAN
METHOD:PUBLISH
X-WR-CALNAME:The Women&#039;s College
X-ORIGINAL-URL:https://womens.uq.edu.au
X-WR-CALDESC:Events for The Women&#039;s College
BEGIN:VTIMEZONE
TZID:"UTC"
BEGIN:STANDARD
TZOFFSETFROM:+0000
TZOFFSETTO:+0000
TZNAME:UTC
DTSTART:20210101T000000
END:STANDARD
END:VTIMEZONE
BEGIN:VEVENT
DTSTART;TZID="UTC":20210731T130000
DTEND;TZID="UTC":20210731T160000
DTSTAMP:20210301T031720
CREATED:20200618T034057Z
LAST-MODIFIED:20210125T111431Z
UID:6660-1627736400-1627747200@womens.uq.edu.au
SUMMARY:2021 Open Days
DESCRIPTION:2021 Open Days\nVisit our Open Days on Saturday 31 July from 1:00pm – 4:00pm and on Sunday 1 August from 9:00am – 4:00pm. \nWhat’s on Offer\n\n\nTours with Student Ambassadors\n\n\nThe best opportunity to hear more about College life is on a tour with our Student Ambassadors. See their room\, the College’s facilities and learn more about the unique Women’s College experience. \n\n\nHead of College Information Session\n\n\nMeet our Head of College & CEO\, Flo Kearney\, and discover what makes The Women’s College more than just a place to stay for young university women. Sessions will be held as follows – \nSaturday 31 July – 2:00pm and 3:00pm \nSunday 1 August – 10:00am\, 12:00pm and 2:00pm \n\n\nQ&A Sessions\n\n\nJoin our Women’s College staff and current students in the Freda Bage Room for informal Q&A sessions throughout the day and learn about residential college life and studying at university. \n\n\nComplimentary High Tea\n\n\nEnjoy our continuous tea\, coffee and high tea in our Freda Bage Room throughout our Open Day. \nFor further information\, please email – admin@womens.uq.edu.au \nRegistrations open in June 2021. \n  \n
URL:https://womens.uq.edu.au/event/2021-open-days/
CATEGORIES:Event,Friends & Supporters,Student Events,Teachers & Career Advisors
ATTACH;FMTTYPE=image/jpeg:https://www.womens.uq.edu.au/wp-content/uploads/2020/06/Website-homepage-banner_Open-Day.jpg
END:VEVENT
END:VCALENDAR