BEGIN:VCALENDAR
VERSION:2.0
PRODID:-//The Women&#039;s College - ECPv4.9.4//NONSGML v1.0//EN
CALSCALE:GREGORIAN
METHOD:PUBLISH
X-WR-CALNAME:The Women&#039;s College
X-ORIGINAL-URL:https://womens.uq.edu.au
X-WR-CALDESC:Events for The Women&#039;s College
BEGIN:VTIMEZONE
TZID:"UTC"
BEGIN:STANDARD
TZOFFSETFROM:+0000
TZOFFSETTO:+0000
TZNAME:UTC
DTSTART:20210101T000000
END:STANDARD
END:VTIMEZONE
BEGIN:VEVENT
DTSTART;TZID="UTC":20210311T174500
DTEND;TZID="UTC":20210311T210000
DTSTAMP:20210301T030748
CREATED:20191124T120009Z
LAST-MODIFIED:20210217T064659Z
UID:4693-1615484700-1615496400@womens.uq.edu.au
SUMMARY:Academic Dinner & Alumnae Awards
DESCRIPTION:This significant occasion is an invitation-only event to celebrate the academic achievements of our students\, acknowledge the scholarship awardees and inaugural alumnae award winners. \nDate: Thursday 11 March 2021 \nTime: 5:45pm – 9:00pm \nVenue: Harriet Marks Dining Hall\, The Women’s College \nGuest Speaker: Professor Robina Xavier\, Deputy Vice-Chancellor and Vice President (Education)\, QUT \nDress: Business Attire/Academic Gown \nFurther information: events@womens.uq.edu.au or phone: 3377 4500 \nRSVP: By Friday 5 March 2021 \nNote: If you are feeling unwell\, please do not attend this event. COVID safe practices are required at this event and as a result limited seating is available. \nInformation for Parents of Academic Prize Winners and Scholarship Awardees \n1. If parents are  interested in purchasing a gift for their daughter to celebrate their academic/scholarship achievements\, please visit our online store – https://www.womens.uq.edu.au/shop/   The gift will be wrapped and available for collection on arrival at the College. \n2. If  parents are travelling to Brisbane for this special event\, the College has some apartments available. For bookings and further enquiries\, please contact our Conference & Events Manager – events@womens.uq.edu.au \n\n                \n                        \n                            Academic Dinner & Alumnae Awards RSVP\n                            \n                        \n                        AttendeeFirst Name*Last Name*Email*\n                            \n                        Phone*Attendance*Yes I would like to attend this eventApologies\, I am unable to attendDietary requirementsAttendee Type*Academic Prize or Scholarship DonorAcademic Prize Recipient (Student)AlumnaCouncil memberParent of Academic Prize or Scholarship RecipientScholarship Recipient (Student)Special GuestWomen’s College StaffDaughter's Name (if applicable)Parents to provide the name of their daughter if an academic prize winner or scholarship awardee.Reservation Type*Please selectIndividualTwo Attendees (by invitation only)Attendee 2Name\n                            \n                            \n                                                    \n                                                    First\n                                                \n                            \n                            \n                                                    \n                                                    Last\n                                                \n                            \n                        Dietary RequirementsAttendee 2 Type (by invitation only)Parent of Academic Prize or Scholarship RecipientGuestCAPTCHA\n                            \n          \n            \n            \n            \n            \n            \n            \n            \n            \n            \n        \n                        \n                         jQuery(document).bind('gform_post_render'\, function(event\, formId\, currentPage){if(formId == 46) {gf_global["number_formats"][46] = {"20":{"price":false\,"value":false}\,"1":{"price":false\,"value":false}\,"2":{"price":false\,"value":false}\,"10":{"price":false\,"value":false}\,"16":{"price":false\,"value":false}\,"12":{"price":false\,"value":false}\,"9":{"price":false\,"value":false}\,"21":{"price":false\,"value":false}\,"32":{"price":false\,"value":false}\,"22":{"price":false\,"value":false}\,"30":{"price":false\,"value":false}\,"26":{"price":false\,"value":false}\,"28":{"price":false\,"value":false}\,"29":{"price":false\,"value":false}\,"31":{"price":false\,"value":false}};if(window['jQuery']){if(!window['gf_form_conditional_logic'])window['gf_form_conditional_logic'] = new Array();window['gf_form_conditional_logic'][46] = { logic: { 30: {"field":{"actionType":"show"\,"logicType":"all"\,"rules":[{"fieldId":"22"\,"operator":"is"\,"value":"Two Attendees (by invitation only)"}]}\,"nextButton":null\,"section":null}\,26: {"field":{"actionType":"show"\,"logicType":"all"\,"rules":[{"fieldId":"22"\,"operator":"is"\,"value":"Two Attendees (by invitation only)"}]}\,"nextButton":null\,"section":null}\,28: {"field":{"actionType":"show"\,"logicType":"all"\,"rules":[{"fieldId":"22"\,"operator":"is"\,"value":"Two Attendees (by invitation only)"}]}\,"nextButton":null\,"section":null}\,29: {"field":{"actionType":"show"\,"logicType":"all"\,"rules":[{"fieldId":"22"\,"operator":"is"\,"value":"Two Attendees (by invitation only)"}]}\,"nextButton":null\,"section":null} }\, dependents: { 30: [30]\,26: [26]\,28: [28]\,29: [29] }\, animation: 0\, defaults: {"26":{"26.2":""\,"26.3":""\,"26.4":""\,"26.6":""\,"26.8":""}}\, fields: {"20":[]\,"1":[]\,"2":[]\,"10":[]\,"16":[]\,"12":[]\,"9":[]\,"21":[]\,"32":[]\,"22":[30\,26\,28\,29]\,"30":[]\,"26":[]\,"28":[]\,"29":[]\,"31":[]} }; if(!window['gf_number_format'])window['gf_number_format'] = 'decimal_dot';jQuery(document).ready(function(){gf_apply_rules(46\, [30\,26\,28\,29]\, true);jQuery('#gform_wrapper_46').show();jQuery(document).trigger('gform_post_conditional_logic'\, [46\, null\, true]);} );} } } );jQuery(document).bind('gform_post_conditional_logic'\, function(event\, formId\, fields\, isInit){} ); jQuery(document).ready(function(){jQuery(document).trigger('gform_post_render'\, [46\, 1]) } ); \n  \n  \n
URL:https://womens.uq.edu.au/event/academic-dinner-alumnae-awards/
LOCATION:The Women’s College\, College Road\, St Lucia\, Brisbane\, Queensland\, 4067\, Australia
CATEGORIES:Alumnae Events,Event,Friends & Supporters,Student Events
ATTACH;FMTTYPE=image/jpeg:https://www.womens.uq.edu.au/wp-content/uploads/2019/11/Academic-Dinner-Alumnae-Awards_Latest-News_v1.jpg
END:VEVENT
END:VCALENDAR