BEGIN:VCALENDAR
VERSION:2.0
PRODID:-//The Women&#039;s College - ECPv4.9.4//NONSGML v1.0//EN
CALSCALE:GREGORIAN
METHOD:PUBLISH
X-WR-CALNAME:The Women&#039;s College
X-ORIGINAL-URL:https://womens.uq.edu.au
X-WR-CALDESC:Events for The Women&#039;s College
BEGIN:VTIMEZONE
TZID:"UTC"
BEGIN:STANDARD
TZOFFSETFROM:+0000
TZOFFSETTO:+0000
TZNAME:UTC
DTSTART:20210101T000000
END:STANDARD
END:VTIMEZONE
BEGIN:VEVENT
DTSTART;TZID="UTC":20210425T060000
DTEND;TZID="UTC":20210425T070000
DTSTAMP:20210301T030843
CREATED:20210123T034810Z
LAST-MODIFIED:20210123T034810Z
UID:8169-1619330400-1619334000@womens.uq.edu.au
SUMMARY:ANZAC Day Ceremony
DESCRIPTION:An invitation to our College community to attend The Women’s College ANZAC Day Ceremony. \nFurther details will be available in early 2021. \n  \n  \n
URL:https://womens.uq.edu.au/event/anzac-day-ceremony/
LOCATION:The Women’s College\, College Road\, St Lucia\, Brisbane\, Queensland\, 4067\, Australia
CATEGORIES:Alumnae Events,Event,Friends & Supporters,Student Events
ATTACH;FMTTYPE=image/jpeg:https://www.womens.uq.edu.au/wp-content/uploads/2021/01/Latest-News-1.jpg
END:VEVENT
END:VCALENDAR