BEGIN:VCALENDAR
VERSION:2.0
PRODID:-//The Women&#039;s College - ECPv4.9.4//NONSGML v1.0//EN
CALSCALE:GREGORIAN
METHOD:PUBLISH
X-WR-CALNAME:The Women&#039;s College
X-ORIGINAL-URL:https://womens.uq.edu.au
X-WR-CALDESC:Events for The Women&#039;s College
BEGIN:VTIMEZONE
TZID:"UTC"
BEGIN:STANDARD
TZOFFSETFROM:+0000
TZOFFSETTO:+0000
TZNAME:UTC
DTSTART:20210101T000000
END:STANDARD
END:VTIMEZONE
BEGIN:VEVENT
DTSTART;TZID="UTC":20210313T100000
DTEND;TZID="UTC":20210313T113000
DTSTAMP:20210301T030807
CREATED:20201209T001343Z
LAST-MODIFIED:20210223T050604Z
UID:7963-1615629600-1615635000@womens.uq.edu.au
SUMMARY:107th Birthday Celebration
DESCRIPTION:A highlight on the College calendar is the annual College Birthday. \nThis year\, we celebrate the College’s 107th Birthday with a special High Tea for our College community. \nWe encourage our alumnae to invite their daughters (future Woozas) to join them for this occasion. \nHeld on the deck outside the Harriet Marks Dining Hall\, the event provides guests with an opportunity to network with alumnae and friends of the College. \nDress: Smart Casual \nParking:  Free parking is available at the College \nFor enquiries\, please phone the College on 07 3377 4500 or email events@womens.uq.edu.au \nRSVP HERE by Tuesday 9 March 2021 \n  \n\n                \n                        \n                            College Birthday RSVP\n                            \n                        \n                        First Name*Surname*Email*\n                            \n                        Phone Number*Attendee Type*AlumnaCouncil MemberDonorWomen's College StaffStudent Leadership TeamSpecial GuestMy special dietary requirements areReservation Type*Please SelectIndividualTWO attendeesAttendee 2Alumna daughter's name (or guest name if applicable)\n                            \n                            \n                                                    \n                                                    First\n                                                \n                            \n                            \n                                                    \n                                                    Last\n                                                \n                            \n                        Daughter's ageDietary requirementsCAPTCHA\n                            \n          \n            \n            \n            \n            \n            \n            \n            \n            \n            \n        \n                        \n                         jQuery(document).bind('gform_post_render'\, function(event\, formId\, currentPage){if(formId == 48) {gf_global["number_formats"][48] = {"20":{"price":false\,"value":false}\,"1":{"price":false\,"value":false}\,"2":{"price":false\,"value":false}\,"10":{"price":false\,"value":false}\,"16":{"price":false\,"value":false}\,"29":{"price":false\,"value":false}\,"9":{"price":false\,"value":false}\,"30":{"price":false\,"value":false}\,"32":{"price":false\,"value":false}\,"33":{"price":false\,"value":false}\,"35":{"price":false\,"value":false}\,"28":{"price":false\,"value":false}\,"19":{"price":false\,"value":false}};if(window['jQuery']){if(!window['gf_form_conditional_logic'])window['gf_form_conditional_logic'] = new Array();window['gf_form_conditional_logic'][48] = { logic: { 32: {"field":{"actionType":"show"\,"logicType":"all"\,"rules":[{"fieldId":"30"\,"operator":"is"\,"value":"TWO attendees"}]}\,"nextButton":null\,"section":null}\,33: {"field":{"actionType":"show"\,"logicType":"all"\,"rules":[{"fieldId":"30"\,"operator":"is"\,"value":"TWO attendees"}]}\,"nextButton":null\,"section":null}\,35: {"field":{"actionType":"show"\,"logicType":"all"\,"rules":[{"fieldId":"1"\,"operator":"is"\,"value":""}]}\,"nextButton":null\,"section":null}\,28: {"field":{"actionType":"show"\,"logicType":"all"\,"rules":[{"fieldId":"30"\,"operator":"is"\,"value":"TWO attendees"}]}\,"nextButton":null\,"section":null} }\, dependents: { 32: [32]\,33: [33]\,35: [35]\,28: [28] }\, animation: 0\, defaults: {"33":{"33.2":""\,"33.3":""\,"33.4":""\,"33.6":""\,"33.8":""}}\, fields: {"20":[]\,"1":[35]\,"2":[]\,"10":[]\,"16":[]\,"29":[]\,"9":[]\,"30":[32\,33\,28]\,"32":[]\,"33":[]\,"35":[]\,"28":[]\,"19":[]} }; if(!window['gf_number_format'])window['gf_number_format'] = 'decimal_dot';jQuery(document).ready(function(){gf_apply_rules(48\, [32\,33\,35\,28]\, true);jQuery('#gform_wrapper_48').show();jQuery(document).trigger('gform_post_conditional_logic'\, [48\, null\, true]);} );} } } );jQuery(document).bind('gform_post_conditional_logic'\, function(event\, formId\, fields\, isInit){} ); jQuery(document).ready(function(){jQuery(document).trigger('gform_post_render'\, [48\, 1]) } ); \n  \n  \n  \n
URL:https://womens.uq.edu.au/event/birthday-celebration-2/
LOCATION:The Women’s College\, College Road\, St Lucia\, Brisbane\, Queensland\, 4067\, Australia
CATEGORIES:Alumnae Events,Event,Friends & Supporters,Student Events
ATTACH;FMTTYPE=image/jpeg:https://www.womens.uq.edu.au/wp-content/uploads/2020/12/College-107th-Birthday_Latest-News.jpg
END:VEVENT
END:VCALENDAR