BEGIN:VCALENDAR
VERSION:2.0
PRODID:-//The Women&#039;s College - ECPv4.9.4//NONSGML v1.0//EN
CALSCALE:GREGORIAN
METHOD:PUBLISH
X-WR-CALNAME:The Women&#039;s College
X-ORIGINAL-URL:https://womens.uq.edu.au
X-WR-CALDESC:Events for The Women&#039;s College
BEGIN:VTIMEZONE
TZID:"UTC"
BEGIN:STANDARD
TZOFFSETFROM:+0000
TZOFFSETTO:+0000
TZNAME:UTC
DTSTART:20210101T000000
END:STANDARD
END:VTIMEZONE
BEGIN:VEVENT
DTSTART;TZID="UTC":20211124T180000
DTEND;TZID="UTC":20211124T210000
DTSTAMP:20210227T091131
CREATED:20201208T233641Z
LAST-MODIFIED:20201209T122533Z
UID:7952-1637776800-1637787600@womens.uq.edu.au
SUMMARY:Dividere Dinner
DESCRIPTION:This is an invitation only event to thank our donors and those who have significantly supported the College throughout 2021. \nFurther details and registration available in 2021. \n  \n  \n
URL:https://womens.uq.edu.au/event/dividere-dinner-2/
LOCATION:The Women’s College\, College Road\, St Lucia\, Brisbane\, Queensland\, 4067\, Australia
CATEGORIES:Alumnae Events,Event,Friends & Supporters
ATTACH;FMTTYPE=image/jpeg:https://www.womens.uq.edu.au/wp-content/uploads/2020/12/Dividere-Dinner_Latest-News.jpg
END:VEVENT
END:VCALENDAR