BEGIN:VCALENDAR
VERSION:2.0
PRODID:-//The Women&#039;s College - ECPv4.9.4//NONSGML v1.0//EN
CALSCALE:GREGORIAN
METHOD:PUBLISH
X-WR-CALNAME:The Women&#039;s College
X-ORIGINAL-URL:https://womens.uq.edu.au
X-WR-CALDESC:Events for The Women&#039;s College
BEGIN:VTIMEZONE
TZID:"UTC"
BEGIN:STANDARD
TZOFFSETFROM:+0000
TZOFFSETTO:+0000
TZNAME:UTC
DTSTART:20210101T000000
END:STANDARD
END:VTIMEZONE
BEGIN:VEVENT
DTSTART;TZID="UTC":20210408T183000
DTEND;TZID="UTC":20210408T203000
DTSTAMP:20210301T031031
CREATED:20200201T230713Z
LAST-MODIFIED:20210210T025245Z
UID:5590-1617906600-1617913800@womens.uq.edu.au
SUMMARY:Reception for Dr Sallyanne Atkinson AO
DESCRIPTION:This is an invitation-only special reception to honour Dr Sallyanne Atkinson AO following her 11 years of service as President to The Women’s College Council. Personal invitations have been emailed to guests. \nDate: Thursday 8 April 2021 \nTime: 6:30pm – 8:30pm \nVenue: The Women’s College\, College Road\, St Lucia \nDress: Cocktail / Lounge Suit \nParking:  If parking is required\, please email – events@womens.uq.edu.au \nFor enquiries\, please phone the College on 07 3377 4500. \nPlease note: Numbers are limited for this event due to COVID-19 social distancing restrictions. \n\n                \n                        \n                            RSVP - Reception for Dr Sallyanne Atkinson\n                            \n                        \n                        First Name*Surname*Email*\n                            \n                        Phone Number*Attendance?*Yes I would like to attend this eventApologies\, I am unable to attendMy special dietary requirements areAttendee Type*AlumnaCouncil MemberDonorFormer Student Club President/Senior RASpecial GuestWomen's College Staff2021 SLTReservation Type*Please SelectIndividualTWO attendees (by invitation only)Invited PartnerFirst NameSurnameDietary requirementsCAPTCHA\n                            \n          \n            \n            \n            \n            \n            \n            \n            \n            \n            \n        \n                        \n                         jQuery(document).bind('gform_post_render'\, function(event\, formId\, currentPage){if(formId == 50) {gf_global["number_formats"][50] = {"20":{"price":false\,"value":false}\,"1":{"price":false\,"value":false}\,"2":{"price":false\,"value":false}\,"10":{"price":false\,"value":false}\,"16":{"price":false\,"value":false}\,"12":{"price":false\,"value":false}\,"9":{"price":false\,"value":false}\,"29":{"price":false\,"value":false}\,"30":{"price":false\,"value":false}\,"32":{"price":false\,"value":false}\,"34":{"price":false\,"value":false}\,"35":{"price":false\,"value":false}\,"28":{"price":false\,"value":false}\,"19":{"price":false\,"value":false}};if(window['jQuery']){if(!window['gf_form_conditional_logic'])window['gf_form_conditional_logic'] = new Array();window['gf_form_conditional_logic'][50] = { logic: { 32: {"field":{"actionType":"show"\,"logicType":"all"\,"rules":[{"fieldId":"30"\,"operator":"is"\,"value":"TWO attendees (by invitation only)"}]}\,"nextButton":null\,"section":null}\,34: {"field":{"actionType":"show"\,"logicType":"all"\,"rules":[{"fieldId":"30"\,"operator":"is"\,"value":"TWO attendees (by invitation only)"}]}\,"nextButton":null\,"section":null}\,35: {"field":{"actionType":"show"\,"logicType":"all"\,"rules":[{"fieldId":"30"\,"operator":"is"\,"value":"TWO attendees (by invitation only)"}]}\,"nextButton":null\,"section":null}\,28: {"field":{"actionType":"show"\,"logicType":"all"\,"rules":[{"fieldId":"30"\,"operator":"is"\,"value":"TWO attendees (by invitation only)"}]}\,"nextButton":null\,"section":null} }\, dependents: { 32: [32]\,34: [34]\,35: [35]\,28: [28] }\, animation: 0\, defaults: []\, fields: {"20":[]\,"1":[]\,"2":[]\,"10":[]\,"16":[]\,"12":[]\,"9":[]\,"29":[]\,"30":[32\,34\,35\,28]\,"32":[]\,"34":[]\,"35":[]\,"28":[]\,"19":[]} }; if(!window['gf_number_format'])window['gf_number_format'] = 'decimal_dot';jQuery(document).ready(function(){gf_apply_rules(50\, [32\,34\,35\,28]\, true);jQuery('#gform_wrapper_50').show();jQuery(document).trigger('gform_post_conditional_logic'\, [50\, null\, true]);} );} } } );jQuery(document).bind('gform_post_conditional_logic'\, function(event\, formId\, fields\, isInit){} ); jQuery(document).ready(function(){jQuery(document).trigger('gform_post_render'\, [50\, 1]) } ); \n  \n
URL:https://womens.uq.edu.au/event/reception-for-sallyanne_atkinson/
LOCATION:The Women’s College\, College Road\, St Lucia\, Brisbane\, Queensland\, 4067\, Australia
CATEGORIES:Alumnae Events,Event,Friends & Supporters
ATTACH;FMTTYPE=image/jpeg:https://www.womens.uq.edu.au/wp-content/uploads/2020/02/Latest-News_v3.jpg
END:VEVENT
END:VCALENDAR