BEGIN:VCALENDAR
VERSION:2.0
PRODID:-//The Women&#039;s College - ECPv4.9.4//NONSGML v1.0//EN
CALSCALE:GREGORIAN
METHOD:PUBLISH
X-WR-CALNAME:The Women&#039;s College
X-ORIGINAL-URL:https://womens.uq.edu.au
X-WR-CALDESC:Events for The Women&#039;s College
BEGIN:VTIMEZONE
TZID:"UTC"
BEGIN:STANDARD
TZOFFSETFROM:+0000
TZOFFSETTO:+0000
TZNAME:UTC
DTSTART:20210101T000000
END:STANDARD
END:VTIMEZONE
BEGIN:VEVENT
DTSTART;TZID="UTC":20210304T174500
DTEND;TZID="UTC":20210304T193000
DTSTAMP:20210301T030946
CREATED:20210123T033305Z
LAST-MODIFIED:20210205T073654Z
UID:8166-1614879900-1614886200@womens.uq.edu.au
SUMMARY:School Principals' & Representatives' Dinner
DESCRIPTION:The continuing development of The Women’s College is dependent upon our Brisbane schools’ understanding of our vision. At the College\, our aim is to assist young women with their transition from secondary school to university studies and beyond by becoming a resident or associate member. \nWe welcome School Principals or their representatives and Career Advisors/Counsellors to this annual dinner. \nFor further information\, please email – events@womens.uq.edu.au or phone 3377 4500. \n\n                \n                        \n                            School Principals' Dinner RSVP\n                            \n                        \n                        Attendee 1First Name*Surname*Name of School*Email*\n                            \n                        Phone Number*Position*PrincipalDeputy PrincipalCareers Advisor/CounsellorHead of Senior SchoolHead of Year 12Dietary requirementsAttendee 2Name\n                            \n                            \n                                                    \n                                                    First\n                                                \n                            \n                            \n                                                    \n                                                    Last\n                                                \n                            \n                        Email\n                            \n                        PositionDeputy PrincipalCareers Advisor/CounsellorHead of Senior SchoolHead of Year 12Dietary requirementsCAPTCHA\n                            \n          \n            \n            \n            \n            \n            \n            \n            \n            \n            \n        \n                        \n                         jQuery(document).bind('gform_post_render'\, function(event\, formId\, currentPage){if(formId == 85) {} } );jQuery(document).bind('gform_post_conditional_logic'\, function(event\, formId\, fields\, isInit){} ); jQuery(document).ready(function(){jQuery(document).trigger('gform_post_render'\, [85\, 1]) } ); \n  \n
URL:https://womens.uq.edu.au/event/school-principals-and-representatives-dinner/
CATEGORIES:Event,Teachers & Career Advisors
ATTACH;FMTTYPE=image/jpeg:https://www.womens.uq.edu.au/wp-content/uploads/2021/01/Latest-News.jpg
END:VEVENT
END:VCALENDAR