BEGIN:VCALENDAR
VERSION:2.0
PRODID:-//The Women&#039;s College - ECPv4.9.4//NONSGML v1.0//EN
CALSCALE:GREGORIAN
METHOD:PUBLISH
X-WR-CALNAME:The Women&#039;s College
X-ORIGINAL-URL:https://womens.uq.edu.au
X-WR-CALDESC:Events for The Women&#039;s College
BEGIN:VTIMEZONE
TZID:"UTC"
BEGIN:STANDARD
TZOFFSETFROM:+0000
TZOFFSETTO:+0000
TZNAME:UTC
DTSTART:20210101T000000
END:STANDARD
END:VTIMEZONE
BEGIN:VEVENT
DTSTART;TZID="UTC":20210214T120000
DTEND;TZID="UTC":20210214T170000
DTSTAMP:20210301T031122
CREATED:20201203T032420Z
LAST-MODIFIED:20210127T033446Z
UID:7923-1613304000-1613322000@womens.uq.edu.au
SUMMARY:Family Day
DESCRIPTION:Parents of first year residents and associates are warmly invited to attend The Women’s College Family Day to welcome their daughters to the start of Orientation Week. \nUnfortunately\, due to COVID-19 social distancing requirements and maximum numbers permitted per venue\, only one parent can attend Family Day with their daughter this year. \nThis is a great opportunity to meet our College Council\, staff and other parents of first year residents and associates as well as hear how Women’s College provides a seamless transition to independence for first year university students. \nDate: Sunday 14 February 2021 \nDress: Smart Casual \nProgram \n12:00pm – 2:00pm – Welcome Lunch in the Harriet Marks Dining Hall/Deck \n2:00pm – 2:30pm – #1 Information Session in the College Playhouse (max. 75pax due to social distancing) \n2:45pm – 3:15pm – #2 Information Session in the College Playhouse (max. 75pax due to social distancing) \n3:30pm – 5:00pm – Welcome Cocktail Function for new parents and first year residents and associates in the Harriet Marks Dining Hall/Deck/Quad \n  \nFor further queries\, please email – events@womens.uq.edu.au \nNote: A fee of $35 per family will be charged to your student account to cover meal costs for the day. \n  \nRSVP HERE – by Monday 8 February 2021 \n  \n\n                \n                        Parent attending:*Please SelectMotherFatherOtherI would like to attend the following events:*Welcome Lunch – 12:00pm – 2:00pmInformation Session #1– 2:00pm-2:30pmInformation Session #2 - 2:45pm-3:15pmWelcome Cocktail Party – 3:30pm – 5:00pmPlease select the events you would like to attend. Ensure you hold down the Ctrl key if you are selecting more than one event (Command key if using a MAC)Parent First Name*Parent Surname*Email*\n                            \n                        Mobile*Is the first year student's mother an alumna of The Women's College?*Please selectYesNoMother's Nameeg. Anne Smith (nee Anderson)Year/s resided at The Women's College?(ie. 1982-1985)Your first year resident/associate*\n                            \n                            \n                                                    \n                                                    First name\n                                                \n                            \n                            \n                                                    \n                                                    Surname\n                                                \n                            \n                        Parent's special dietary requirements areCAPTCHA\n                            \n          \n            \n            \n            \n            \n            \n            \n            \n            \n            \n        \n                        \n                         jQuery(document).bind('gform_post_render'\, function(event\, formId\, currentPage){if(formId == 31) {} } );jQuery(document).bind('gform_post_conditional_logic'\, function(event\, formId\, fields\, isInit){} ); jQuery(document).ready(function(){jQuery(document).trigger('gform_post_render'\, [31\, 1]) } ); \n  \n
URL:https://womens.uq.edu.au/event/family-day-2/
LOCATION:The Women’s College\, College Road\, St Lucia\, Brisbane\, Queensland\, 4067\, Australia
CATEGORIES:Event,Friends & Supporters,Student Events
ATTACH;FMTTYPE=image/jpeg:https://www.womens.uq.edu.au/wp-content/uploads/2019/12/Latest-News.jpg
END:VEVENT
END:VCALENDAR