BEGIN:VCALENDAR
VERSION:2.0
PRODID:-//The Women&#039;s College - ECPv4.9.4//NONSGML v1.0//EN
CALSCALE:GREGORIAN
METHOD:PUBLISH
X-WR-CALNAME:The Women&#039;s College
X-ORIGINAL-URL:https://womens.uq.edu.au
X-WR-CALDESC:Events for The Women&#039;s College
BEGIN:VTIMEZONE
TZID:"UTC"
BEGIN:STANDARD
TZOFFSETFROM:+0000
TZOFFSETTO:+0000
TZNAME:UTC
DTSTART:20210101T000000
END:STANDARD
END:VTIMEZONE
BEGIN:VEVENT
DTSTART;TZID="UTC":20210217T120000
DTEND;TZID="UTC":20210217T133000
DTSTAMP:20210301T031141
CREATED:20200129T130103Z
LAST-MODIFIED:20210114T053857Z
UID:5480-1613563200-1613568600@womens.uq.edu.au
SUMMARY:Academic Lunch
DESCRIPTION:This is an invitation-only networking lunch which provides an opportunity for first-year students to experience the importance of academic excellence by assisting them to adjust from high school to university through networking with academics and tutors in their field of study. \nVenue: Harriett Marks Dining Room\, The Women’s College \nDress: Business attire \nParking:  If parking is required\, please email – events@womens.uq.edu.au \nFor further enquiries\, please phone the College on 07 3377 4500. \n  \nRSVP HERE by Friday 12 February 2021 \n\n                \n                        \n                            Academic Lunch\n                            \n                        \n                        First Name*Last Name*Email*\n                            \n                        Phone*Attendance?*Yes I would like to attend this eventApologies\, I am unable to attendAttendee Type*University AcademicCollege TutorWomen's College Council memberWomen's College Staff MemberWhich university do you represent? (if applicable)Which university faculty/department do you represent? (if applicable)My special dietary requirements areCAPTCHA\n                            \n          \n            \n            \n            \n            \n            \n            \n            \n            \n            \n        \n                        \n                         jQuery(document).bind('gform_post_render'\, function(event\, formId\, currentPage){if(formId == 44) {} } );jQuery(document).bind('gform_post_conditional_logic'\, function(event\, formId\, fields\, isInit){} ); jQuery(document).ready(function(){jQuery(document).trigger('gform_post_render'\, [44\, 1]) } ); \n
URL:https://womens.uq.edu.au/event/academic-lunch/
LOCATION:The Women’s College\, College Road\, St Lucia\, Brisbane\, Queensland\, 4067\, Australia
CATEGORIES:Event,Friends & Supporters,Student Events
ATTACH;FMTTYPE=image/jpeg:https://www.womens.uq.edu.au/wp-content/uploads/2020/01/Academic-Lunch_Latest-News_v1.jpg
END:VEVENT
END:VCALENDAR