BEGIN:VCALENDAR
VERSION:2.0
PRODID:-//The Women&#039;s College - ECPv4.9.4//NONSGML v1.0//EN
CALSCALE:GREGORIAN
METHOD:PUBLISH
X-WR-CALNAME:The Women&#039;s College
X-ORIGINAL-URL:https://womens.uq.edu.au
X-WR-CALDESC:Events for The Women&#039;s College
BEGIN:VTIMEZONE
TZID:"UTC"
BEGIN:STANDARD
TZOFFSETFROM:+0000
TZOFFSETTO:+0000
TZNAME:UTC
DTSTART:20210101T000000
END:STANDARD
END:VTIMEZONE
BEGIN:VEVENT
DTSTART;TZID="UTC":20210225T171500
DTEND;TZID="UTC":20210225T193000
DTSTAMP:20210301T031203
CREATED:20200129T115255Z
LAST-MODIFIED:20210222T065716Z
UID:5309-1614273300-1614281400@womens.uq.edu.au
SUMMARY:Commencement Dinner
DESCRIPTION:The Commencement Dinner  is our first Formal Dinner for 2021 to welcome the return of all students and recognise the 2021 new Student Leadership Team. \nThe College Photo will  be taken at 5:00pm on the tennis court followed by pre-dinner drinks on the Deck and Courtyard from 5:30pm – 6:00pm. \nThe Formal Dinner will be held in the Harriet Marks Dining Hall with an address by the Student Club President. \nDress Code – Academic Gown \n  \n  \n  \n
URL:https://womens.uq.edu.au/event/commencement-dinner/
LOCATION:The Women’s College\, College Road\, St Lucia\, Brisbane\, Queensland\, 4067\, Australia
CATEGORIES:Event,Friends & Supporters,Student Events
ATTACH;FMTTYPE=image/jpeg:https://www.womens.uq.edu.au/wp-content/uploads/2020/01/Commencement-Dinner-Latest_News_v1-1.jpg
END:VEVENT
END:VCALENDAR